BEGIN:VCALENDAR
VERSION:2.0
PRODID:-//ChamberMaster//Event Calendar 2.0//EN
METHOD:PUBLISH
X-PUBLISHED-TTL:P3D
REFRESH-INTERVAL:P3D
CALSCALE:GREGORIAN
BEGIN:VEVENT
DTSTART;VALUE=DATE:20150417
DTEND;VALUE=DATE:20150419
TRANSP:TRANSPARENT
X-MICROSOFT-CDO-ALLDAYEVENT:TRUE
SUMMARY:Missouri's Largest Garage Sale
DESCRIPTION:It will be the 27th Year of Missouri's Largest Garage Sale in Neosho\, MO!\n\nPlease note the DATE CHANGE this Year!  Because Easter falls on the 1st weekend in April we have shifted to the 3rd weekend to align with school already being out on April 17th.  We appreciate your involvement and support of this great event!
X-ALT-DESC;FMTTYPE=text/html:It will be the 27th Year of Missouri&#39\;s Largest Garage Sale in Neosho\, MO!<br />\nPlease note the DATE CHANGE this Year!&nbsp\; Because Easter falls on the 1st weekend in April we have shifted to the 3rd weekend to align with school already being out on April 17th.&nbsp\; We appreciate your involvement and support of this great event!
LOCATION:Over 400 sales all over Neosho and the surrounding area!
UID:e.2144.113
SEQUENCE:3
DTSTAMP:20260422T043540Z
URL:https://neoshocc.com/events/details/missouri-s-largest-garage-sale-04-17-2015-113
END:VEVENT

END:VCALENDAR
