BEGIN:VCALENDAR
VERSION:2.0
PRODID:-//ChamberMaster//Event Calendar 2.0//EN
METHOD:PUBLISH
X-PUBLISHED-TTL:P3D
REFRESH-INTERVAL:P3D
CALSCALE:GREGORIAN
BEGIN:VEVENT
DTSTART:20210320T223000Z
DTEND:20210321T020000Z
X-MICROSOFT-CDO-ALLDAYEVENT:FALSE
SUMMARY:Mintahama Food Fight and High Stakes Cakes
DESCRIPTION:As local chefs showcase their talent\,\n\nyou award the stars as you enjoy competing appetizers\, main courses\, and desserts from some of the area's best culinary talent!     The High Stakes Cake Walk is a standalone bidding war from area Baker's most delectable dessert offerings. The silent auction brings the evening together in support of the Mintahama nonprofit as funds are raised to reopen this historic property as a public recreation area in 2021. \n\nFind out more at mintahama.org\n\nChoose from 5:30 or 7:30 seatings or carryout at 7pm.
X-ALT-DESC;FMTTYPE=text/html:<div>\n<p style="text-align:center"><strong>As local chefs showcase their talent\,<br />\nyou award the stars as you enjoy competing appetizers\, main courses\, and desserts from some of the area&rsquo\;s best culinary talent! </strong>&nbsp\; &nbsp\;&nbsp\;<strong>The High Stakes Cake Walk is a standalone bidding war from area Baker&rsquo\;s most delectable dessert offerings. The silent auction brings the evening together in support of the Mintahama nonprofit as funds are raised to reopen this historic property as a public recreation area in 2021. </strong></p>\n\n<p style="text-align:center"><strong>Find out more at mintahama.org</strong></p>\n\n<p style="text-align:center"><strong>Choose from 5:30 or 7:30 seatings or carryout at 7pm.</strong></p>\n</div>\n<br />\n&nbsp\;
LOCATION:Unity of Joplin\, 204 N Jackson\, Joplin\, MO 64801
UID:e.2144.7298
SEQUENCE:3
DTSTAMP:20260423T193804Z
URL:https://neoshocc.com/events/details/mintahama-food-fight-and-high-stakes-cakes-7298
END:VEVENT

END:VCALENDAR
