BEGIN:VCALENDAR
VERSION:2.0
PRODID:-//ChamberMaster//Event Calendar 2.0//EN
METHOD:PUBLISH
X-PUBLISHED-TTL:P3D
REFRESH-INTERVAL:P3D
CALSCALE:GREGORIAN
BEGIN:VEVENT
DTSTART:20231217T010000Z
DTEND:20231217T030000Z
X-MICROSOFT-CDO-ALLDAYEVENT:FALSE
SUMMARY:Merry & Bright: Songs of Christmas Cheer with Ryan & Ryan
DESCRIPTION:Ryan & Ryan is a dynamic father-son piano duo that draws upon classic and contemporary music to create an enthralling concert experience. Together\, Donald and Barron Ryan combine their talents in a dazzling blend of old and new schools. Well-versed in classical\, jazz\, ragtime\, and funk\, the two pianists are able to create exciting new music while giving new life to beloved classics. With their skill and undeniable charisma\, Ryan & Ryan perform exciting two-piano renditions of traditional carols and modern songs to delight audiences and put them in the holiday spirit!
X-ALT-DESC;FMTTYPE=text/html:Ryan &amp\; Ryan is a dynamic father-son piano duo that draws upon classic and contemporary music to create an enthralling concert experience. Together\, Donald and Barron Ryan combine their talents in a dazzling blend of old and new schools. Well-versed in classical\, jazz\, ragtime\, and funk\, the two pianists are able to create exciting new music while giving new life to beloved classics. With their skill and undeniable charisma\, Ryan &amp\; Ryan perform exciting two-piano renditions of traditional carols and modern songs to delight audiences and put them in the holiday spirit!
LOCATION:Harry M. Cornell Arts & Entertainment Complex located at 212 West 7th Street\, Joplin\, MO 64801
UID:e.2144.10792
SEQUENCE:3
DTSTAMP:20260425T104607Z
URL:https://neoshocc.com/events/details/merry-bright-songs-of-christmas-cheer-with-ryan-ryan-10792
END:VEVENT

END:VCALENDAR
