BEGIN:VCALENDAR
VERSION:2.0
PRODID:-//ChamberMaster//Event Calendar 2.0//EN
METHOD:PUBLISH
X-PUBLISHED-TTL:P3D
REFRESH-INTERVAL:P3D
CALSCALE:GREGORIAN
BEGIN:VEVENT
DTSTART:20150918T230000Z
DTEND:20150919T013000Z
X-MICROSOFT-CDO-ALLDAYEVENT:FALSE
SUMMARY:Medicalodges Annual Hog Roast
DESCRIPTION:Medicalodges Annual Hog Roast is Friday\, September 18th\, 2015 from 6:00pm to 8:30pm.  Medicalodges Residents & Staff would like to invite the public\, free of charge to their Fall Hog Roast.  Delicious food - Pulled Pork\, potato salad\, baked beans\, cole slaw\, hot roll & desserts.  The Fabulous BRD's will be performing.  Silent Auction
X-ALT-DESC;FMTTYPE=text/html:Medicalodges Annual Hog Roast is Friday\, September 18th\, 2015 from 6:00pm to 8:30pm.&nbsp\; Medicalodges Residents &amp\; Staff would like to invite the public\, free of charge to their Fall Hog Roast.&nbsp\; Delicious food - Pulled Pork\, potato salad\, baked beans\, cole slaw\, hot roll &amp\; desserts.&nbsp\; The Fabulous BRD&#39\;s will be performing.&nbsp\; Silent Auction
LOCATION:Medicalodges 400 Lyon Drive Neosho\, MO 64850
UID:e.2144.1466
SEQUENCE:3
DTSTAMP:20260421T202842Z
URL:https://neoshocc.com/events/details/medicalodges-annual-hog-roast-09-18-2015-1466
END:VEVENT

END:VCALENDAR
