BEGIN:VCALENDAR
VERSION:2.0
PRODID:-//ChamberMaster//Event Calendar 2.0//EN
METHOD:PUBLISH
X-PUBLISHED-TTL:P3D
REFRESH-INTERVAL:P3D
CALSCALE:GREGORIAN
BEGIN:VEVENT
DTSTART;VALUE=DATE:20150119
DTEND;VALUE=DATE:20150120
TRANSP:TRANSPARENT
X-MICROSOFT-CDO-ALLDAYEVENT:TRUE
SUMMARY:Martin Luther King\, Jr Day - Chamber Closed
DESCRIPTION:The Chamber Office will be closed today in observance of Martin Luther King\, Jr. Day.
X-ALT-DESC;FMTTYPE=text/html:The Chamber Office will be closed today in observance of Martin Luther King\, Jr. Day.
LOCATION:
UID:e.2144.103
SEQUENCE:3
DTSTAMP:20260422T093104Z
URL:https://neoshocc.com/events/details/martin-luther-king-jr-day-chamber-closed-01-19-2015-103
END:VEVENT

END:VCALENDAR
