BEGIN:VCALENDAR
VERSION:2.0
PRODID:-//ChamberMaster//Event Calendar 2.0//EN
METHOD:PUBLISH
X-PUBLISHED-TTL:P3D
REFRESH-INTERVAL:P3D
CALSCALE:GREGORIAN
BEGIN:VEVENT
DTSTART:20220708T170000Z
DTEND:20220708T173000Z
X-MICROSOFT-CDO-ALLDAYEVENT:FALSE
SUMMARY:Market Outlook & Opportunities with Rachel E. Dobbs
DESCRIPTION:Market Volatility Update with Rachel E. Dobbs\n\nPlease join us to discuss the Market Outlook and Opportunities in a bear market.\n\nFeel free to share and invite a friend.\n\n\n\nhttps://edwardjones.zoom.us/j/92097945043?pwd=RmNGSldJN1drcDVxay9uK1NVN05Tdz09\n\n\n\nMeeting ID: 920 9794 5043\n\nPasscode: 344995\n\nDial by your location: 312-626-6799 CST\n\n\n\nThis is a brief update if you have additional questions\, or if you are unable to attend\, please call our office at 417-455-9320 or email us at casey.watson@edwardjones.com
X-ALT-DESC;FMTTYPE=text/html:Market Volatility Update with Rachel E. Dobbs<br />\nPlease join us to discuss the Market Outlook and Opportunities in a bear market.<br />\nFeel free to share and invite a friend.<br />\n<br />\n<a href="https://edwardjones.zoom.us/j/92097945043?pwd=RmNGSldJN1drcDVxay9uK1NVN05Tdz09">https://edwardjones.zoom.us/j/92097945043?pwd=RmNGSldJN1drcDVxay9uK1NVN05Tdz09<br />\n<br />\nMeeting ID: 920 9794 5043<br />\nPasscode: 344995<br />\nDial by your location: 312-626-6799 CST<br />\n<br />\nThis is a brief update if you have additional questions\, or if you are unable to attend\, please call our office at 417-455-9320 or email us at casey.watson@edwardjones.com</a><br />\n&nbsp\;
LOCATION:This will be a Virtual Presentation with Licensed Financial Advisor\, Rachel E. Dobbs.
UID:e.2144.8389
SEQUENCE:3
DTSTAMP:20260424T120121Z
URL:https://neoshocc.com/events/details/market-outlook-opportunities-with-rachel-e-dobbs-8389
END:VEVENT

END:VCALENDAR
