BEGIN:VCALENDAR
VERSION:2.0
PRODID:-//ChamberMaster//Event Calendar 2.0//EN
METHOD:PUBLISH
X-PUBLISHED-TTL:P3D
REFRESH-INTERVAL:P3D
CALSCALE:GREGORIAN
BEGIN:VEVENT
DTSTART:20160329T170000Z
DTEND:20160329T180000Z
X-MICROSOFT-CDO-ALLDAYEVENT:FALSE
SUMMARY:Lunch & Learn - The Four Keys to Advertising Success
DESCRIPTION:AMI Radio will be hosting a Lunch & Learn - The Four Keys to Advertising Success in the La-Z-Boy Opportunity Center inside the Hale McGinty Business Center.\nPlease join us for a free presentation where we will be showing you how to get more customers and keep your advertising costs down!
X-ALT-DESC;FMTTYPE=text/html:AMI Radio will be hosting a Lunch &amp\; Learn - The Four Keys to Advertising Success in the La-Z-Boy Opportunity Center inside the Hale McGinty Business Center.\n<p align="center" style="margin: 0in 0in 10pt\; text-align: center\;"><span style="line-height: 115%\; font-size: 18pt\;"><font color="#000000" face="Calibri">Please join us for a free presentation where we will be showing you how to get more customers and keep your advertising costs down!</font></span></p>\n
LOCATION:Chamber Office (La-Z-Boy Room)
UID:e.2144.1621
SEQUENCE:3
DTSTAMP:20260421T130620Z
URL:https://neoshocc.com/events/details/lunch-learn-the-four-keys-to-advertising-success-03-29-2016-1621
END:VEVENT

END:VCALENDAR
