BEGIN:VCALENDAR
VERSION:2.0
PRODID:-//ChamberMaster//Event Calendar 2.0//EN
METHOD:PUBLISH
X-PUBLISHED-TTL:P3D
REFRESH-INTERVAL:P3D
CALSCALE:GREGORIAN
BEGIN:VEVENT
DTSTART:20240206T173000Z
DTEND:20240206T183000Z
X-MICROSOFT-CDO-ALLDAYEVENT:FALSE
SUMMARY:Lunch & Learn - Corporate Transparency Act - New LLC Requirements
DESCRIPTION:Join us for an insightful Lunch & Learn session on the Corporate Transparency Act: New LLC Requirements. Presentation by SBDC\n\nDiscover the crucial details of the Corporate Transparency Act (CTA)\, including reporting requirements\, exemptions\, and penalties for non-compliance. Our business consultant will guide you through a comprehensive checklist\, offering practical insights and best practices to ensure that your small business stays compliant with the new LLC requirements.\n\nWhether you're a seasoned entrepreneur or just starting your business journey\, this Lunch & Learn provides essential information to navigate the CTA and its implications for your LLC. Stay informed\, ask questions\, and network with fellow small business owners to enhance your understanding of the latest regulations.\n\n*Please note: The Missouri SBDC at MSSU Business Consultants are unable to give tax or legal advice. For specific tax and legal questions\, please direct those to your legal or accounting teams*
X-ALT-DESC;FMTTYPE=text/html:&nbsp\;&nbsp\;\n<div class="xdj266r x11i5rnm xat24cr x1mh8g0r x1vvkbs" style="margin: 0px\; overflow-wrap: break-word\; font-family: &quot\;Segoe UI Historic&quot\;\, &quot\;Segoe UI&quot\;\, Helvetica\, Arial\, sans-serif\; color: rgb(5\, 5\, 5)\; font-size: 15px\;">Join us for an insightful Lunch &amp\; Learn session on the Corporate Transparency Act: New LLC Requirements. Presentation by SBDC</div>\n\n<div class="x11i5rnm xat24cr x1mh8g0r x1vvkbs xtlvy1s" style="margin: 0.5em 0px 0px\; overflow-wrap: break-word\; font-family: &quot\;Segoe UI Historic&quot\;\, &quot\;Segoe UI&quot\;\, Helvetica\, Arial\, sans-serif\; color: rgb(5\, 5\, 5)\; font-size: 15px\;">Discover the crucial details of the Corporate Transparency Act (CTA)\, including reporting requirements\, exemptions\, and penalties for non-compliance. Our business consultant will guide you through a comprehensive checklist\, offering practical insights and best practices to ensure that your small business stays compliant with the new LLC requirements.</div>\n\n<div class="x11i5rnm xat24cr x1mh8g0r x1vvkbs xtlvy1s" style="margin: 0.5em 0px 0px\; overflow-wrap: break-word\; font-family: &quot\;Segoe UI Historic&quot\;\, &quot\;Segoe UI&quot\;\, Helvetica\, Arial\, sans-serif\; color: rgb(5\, 5\, 5)\; font-size: 15px\;">Whether you&#39\;re a seasoned entrepreneur or just starting your business journey\, this Lunch &amp\; Learn provides essential information to navigate the CTA and its implications for your LLC. Stay informed\, ask questions\, and network with fellow small business owners to enhance your understanding of the latest regulations.</div>\n\n<div class="x11i5rnm xat24cr x1mh8g0r x1vvkbs xtlvy1s" style="margin: 0.5em 0px 0px\; overflow-wrap: break-word\; font-family: &quot\;Segoe UI Historic&quot\;\, &quot\;Segoe UI&quot\;\, Helvetica\, Arial\, sans-serif\; color: rgb(5\, 5\, 5)\; font-size: 15px\;">*Please note: The Missouri SBDC at MSSU Business Consultants are unable to give tax or legal advice. For specific tax and legal questions\, please direct those to your legal or accounting teams*&nbsp\;</div>\n
LOCATION:Neosho Area Chamber of Commerce
UID:e.2144.11226
SEQUENCE:3
DTSTAMP:20260421T083339Z
URL:https://neoshocc.com/events/details/lunch-learn-corporate-transparency-act-new-llc-requirements-11226
END:VEVENT

END:VCALENDAR
