BEGIN:VCALENDAR
VERSION:2.0
PRODID:-//ChamberMaster//Event Calendar 2.0//EN
METHOD:PUBLISH
X-PUBLISHED-TTL:P3D
REFRESH-INTERVAL:P3D
CALSCALE:GREGORIAN
BEGIN:VEVENT
DTSTART:20160303T180000Z
DTEND:20160303T190000Z
X-MICROSOFT-CDO-ALLDAYEVENT:FALSE
SUMMARY:Lunch & Learn - "Build Your Own Website in One Hour"
DESCRIPTION:BUILD YOUR OWN WEBSITE IN ONE HOUR\n\nHOSTED AT THE NEOSHO CHAMBER\n\nHaving your own website is essential. Anybody can use these online design tools to quickly create a professional-looking website. You'll learn the essential skills necessary to register a domain name and launch your website. No experience required.\n\nAbout the Instructor:\n\nJason Dittmer has been a professional web developer for over 7 years. His primary work is as a web designer for MyModernWeb.com in Neosho. Jason's list of professional web design projects includes CardinalScale.com\, ColawRV.com and over one hundred other websites.\n\nYou'll learn about the following:\n\n    Wordpress\n\n    Divi (Wordpress Theme)\n\n    Gravity Forms (Wordpress Plugin)\n\n    Domain Registration at Hover.com
X-ALT-DESC;FMTTYPE=text/html:<div style="color: gray\;"><span style="text-transform: none\; font-style: normal\; font-variant: normal\; font-weight: normal\; vertical-align: baseline\; language: en-US\;"><span style="font-size: 18pt\;"><span style="font-family: calibri\;"><span style="color: black\;">BUILD YOUR OWN WEBSITE IN ONE HOUR</span></span></span></span><br />\n<span style="text-transform: none\; font-style: normal\; font-variant: normal\; font-weight: normal\; vertical-align: baseline\; language: en-US\;"><span style="font-size: 18pt\;"><span style="font-family: calibri\;"><span style="color: black\;">HOSTED AT THE NEOSHO CHAMBER</span></span></span></span><br />\n<span style="text-transform: none\; font-style: normal\; font-variant: normal\; font-weight: normal\; vertical-align: baseline\; language: en-US\;"><span style="font-size: 18pt\;"><span style="font-family: calibri\;"><span style="color: black\;">Having your own website is essential. Anybody can use these online design tools to quickly create a professional-looking website. You&rsquo\;ll learn the essential skills necessary to register a domain name and launch your website. No experience required.</span></span></span></span><br />\n<span style="text-transform: none\; font-style: normal\; font-variant: normal\; font-weight: normal\; vertical-align: baseline\; language: en-US\;"><span style="font-size: 18pt\;"><span style="font-family: calibri\;"><span style="color: black\;">About the Instructor:</span></span></span></span><br />\n<span style="text-transform: none\; font-style: normal\; font-variant: normal\; font-weight: normal\; vertical-align: baseline\; language: en-US\;"><span style="font-size: 18pt\;"><span style="font-family: calibri\;"><span style="color: black\;">Jason Dittmer has been a professional web developer for over 7 years. His primary work is as a web designer for MyModernWeb.com in Neosho. Jason&rsquo\;s list of professional web design projects includes CardinalScale.com\, ColawRV.com and over one hundred other websites.</span></span></span></span><br />\n<span style="text-transform: none\; font-style: normal\; font-variant: normal\; font-weight: normal\; vertical-align: baseline\; language: en-US\;"><span style="font-size: 18pt\;"><span style="font-family: calibri\;"><span style="color: black\;">You&rsquo\;ll learn about the following:</span></span></span></span><br />\n<span style="text-transform: none\; font-style: normal\; font-variant: normal\; font-weight: normal\; vertical-align: baseline\; language: en-US\;"><span style="font-size: 18pt\;"><span style="font-family: calibri\;"><span style="color: black\;">&nbsp\; &bull\; </span></span></span></span><span style="text-transform: none\; font-style: normal\; font-variant: normal\; font-weight: normal\; vertical-align: baseline\; language: en-US\;"><span style="font-size: 18pt\;"><span style="font-family: calibri\;"><span style="color: black\;">Wordpress</span></span></span></span><br />\n<span style="text-transform: none\; font-style: normal\; font-variant: normal\; font-weight: normal\; vertical-align: baseline\; language: en-US\;"><span style="font-size: 18pt\;"><span style="font-family: calibri\;"><span style="color: black\;">&nbsp\; &bull\; </span></span></span></span><span style="text-transform: none\; font-style: normal\; font-variant: normal\; font-weight: normal\; vertical-align: baseline\; language: en-US\;"><span style="font-size: 18pt\;"><span style="font-family: calibri\;"><span style="color: black\;">Divi</span></span></span></span><span style="text-transform: none\; font-style: normal\; font-variant: normal\; font-weight: normal\; vertical-align: baseline\; language: en-US\;"><span style="font-size: 18pt\;"><span style="font-family: calibri\;"><span style="color: black\;"> (</span></span></span></span><span style="text-transform: none\; font-style: normal\; font-variant: normal\; font-weight: normal\; vertical-align: baseline\; language: en-US\;"><span style="font-size: 18pt\;"><span style="font-family: calibri\;"><span style="color: black\;">Wordpress</span></span></span></span><span style="text-transform: none\; font-style: normal\; font-variant: normal\; font-weight: normal\; vertical-align: baseline\; language: en-US\;"><span style="font-size: 18pt\;"><span style="font-family: calibri\;"><span style="color: black\;"> Theme)</span></span></span></span><br />\n<span style="text-transform: none\; font-style: normal\; font-variant: normal\; font-weight: normal\; vertical-align: baseline\; language: en-US\;"><span style="font-size: 18pt\;"><span style="font-family: calibri\;"><span style="color: black\;">&nbsp\; &bull\; Gravity Forms (</span></span></span></span><span style="text-transform: none\; font-style: normal\; font-variant: normal\; font-weight: normal\; vertical-align: baseline\; language: en-US\;"><span style="font-size: 18pt\;"><span style="font-family: calibri\;"><span style="color: black\;">Wordpress</span></span></span></span> <span style="text-transform: none\; font-style: normal\; font-variant: normal\; font-weight: normal\; vertical-align: baseline\; language: en-US\;"><span style="font-size: 18pt\;"><span style="font-family: calibri\;"><span style="color: black\;">Plugin</span></span></span></span><span style="text-transform: none\; font-style: normal\; font-variant: normal\; font-weight: normal\; vertical-align: baseline\; language: en-US\;"><span style="font-size: 18pt\;"><span style="font-family: calibri\;"><span style="color: black\;">)</span></span></span></span><br />\n<span style="text-transform: none\; font-style: normal\; font-variant: normal\; font-weight: normal\; vertical-align: baseline\; language: en-US\;"><span style="font-size: 18pt\;"><span style="font-family: calibri\;"><span style="color: black\;">&nbsp\; &bull\; Domain Registration at Hover.com</span></span></span></span><br />\n&nbsp\;</div>\n
LOCATION:Neosho Area Chamber of Commerce La-Z-Boy Opportunity Center 216 W. Spring Neosho\, MO 64850
UID:e.2144.1606
SEQUENCE:3
DTSTAMP:20260421T115104Z
URL:https://neoshocc.com/events/details/lunch-learn-build-your-own-website-in-one-hour-03-03-2016-1606
END:VEVENT

END:VCALENDAR
