BEGIN:VCALENDAR
VERSION:2.0
PRODID:-//ChamberMaster//Event Calendar 2.0//EN
METHOD:PUBLISH
X-PUBLISHED-TTL:P3D
REFRESH-INTERVAL:P3D
CALSCALE:GREGORIAN
BEGIN:VEVENT
DTSTART:20250927T230000Z
DTEND:20250928T020000Z
X-MICROSOFT-CDO-ALLDAYEVENT:FALSE
SUMMARY:Low Compatibility Live Music at Eastside Social
DESCRIPTION:Catch Low Compatibility live at Eastside Social! ?? Enjoy a night of great music\, good vibes\, and your favorite downtown hangout. Grab a drink\, relax on the patio\, and let the tunes take over.
X-ALT-DESC;FMTTYPE=text/html:<p>Catch <strong>Low Compatibility</strong> live at Eastside Social! ?? Enjoy a night of great music\, good vibes\, and your favorite downtown hangout. Grab a drink\, relax on the patio\, and let the tunes take over.</p>\n
LOCATION:113 S Washington St. Neosho\, Mo at Eastside Social
UID:e.2144.18438
SEQUENCE:3
DTSTAMP:20260424T061127Z
URL:https://neoshocc.com/events/details/low-compatibility-live-music-at-eastside-social-09-27-2025-18438
END:VEVENT

END:VCALENDAR
