BEGIN:VCALENDAR
VERSION:2.0
PRODID:-//ChamberMaster//Event Calendar 2.0//EN
METHOD:PUBLISH
X-PUBLISHED-TTL:P3D
REFRESH-INTERVAL:P3D
CALSCALE:GREGORIAN
BEGIN:VEVENT
DTSTART;VALUE=DATE:20160507
DTEND;VALUE=DATE:20160508
TRANSP:TRANSPARENT
X-MICROSOFT-CDO-ALLDAYEVENT:TRUE
SUMMARY:LJ Jenkins Bull Riding Event
DESCRIPTION:
X-ALT-DESC;FMTTYPE=text/html:
LOCATION:Roughrider Arena 608 Field Ave Neosho\, MO 64850
UID:e.2144.1555
SEQUENCE:3
DTSTAMP:20260421T083708Z
URL:https://neoshocc.com/events/details/lj-jenkins-bull-riding-event-05-07-2016-1555
END:VEVENT

END:VCALENDAR
