BEGIN:VCALENDAR
VERSION:2.0
PRODID:-//ChamberMaster//Event Calendar 2.0//EN
METHOD:PUBLISH
X-PUBLISHED-TTL:P3D
REFRESH-INTERVAL:P3D
CALSCALE:GREGORIAN
BEGIN:VEVENT
DTSTART:20211117T000000Z
DTEND:20211117T010000Z
X-MICROSOFT-CDO-ALLDAYEVENT:FALSE
SUMMARY:Living Free
DESCRIPTION:Living Free is a faith-based support group for family and friends of those struggling with addictions.\n\n\n\nCall Jeff at 417-451-2980 or email at jhigginsatc4s@gmail.com for more information.
X-ALT-DESC;FMTTYPE=text/html:Living Free is a faith-based support group for family and friends of those struggling with addictions.<br />\n<br />\nCall Jeff at 417-451-2980 or email at jhigginsatc4s@gmail.com for more information.
LOCATION:Meeting at the Talkington Foundation 209 N Valley St. Neosho\, MO
UID:e.2144.7430
SEQUENCE:3
DTSTAMP:20260423T224829Z
URL:https://neoshocc.com/events/details/living-free-11-16-2021-7430
END:VEVENT

END:VCALENDAR
