BEGIN:VCALENDAR
VERSION:2.0
PRODID:-//ChamberMaster//Event Calendar 2.0//EN
METHOD:PUBLISH
X-PUBLISHED-TTL:P3D
REFRESH-INTERVAL:P3D
CALSCALE:GREGORIAN
BEGIN:VEVENT
DTSTART:20210909T110000Z
DTEND:20210909T130000Z
X-MICROSOFT-CDO-ALLDAYEVENT:FALSE
SUMMARY:Live Music in Big Spring Park
DESCRIPTION:Live Music in Big Spring Park\n\nFree | All Ages | Bring Your Lawn Chairs\n\nSeptember 9\n\n6:00pm - Keyven Dunn\n\n7:00pm - Josh Jennings\n\n\n\nPrime Cut Food Truck will be on site.\n\n\n\nThank you First Community Bank\, Freeman Health System\, Southwest Missouri Bank\, Cactus Creek Boutique\, Coley's Cookie Co.\, and Mitchell's Drug Stores for supporting the arts in our community!
X-ALT-DESC;FMTTYPE=text/html:Live Music in Big Spring Park<br />\nFree | All Ages | Bring Your Lawn Chairs<br />\nSeptember 9<br />\n6:00pm - Keyven Dunn<br />\n7:00pm - Josh Jennings<br />\n<br />\nPrime Cut Food Truck will be on site.<br />\n<br />\nThank you First Community Bank\, Freeman Health System\, Southwest Missouri Bank\, Cactus Creek Boutique\, Coley&#39\;s Cookie Co.\, and Mitchell&#39\;s Drug Stores for supporting the arts in our community!<br />\n<br />\n<br />\n&nbsp\;
LOCATION:Big Spring Park
UID:e.2144.7873
SEQUENCE:3
DTSTAMP:20260423T193518Z
URL:https://neoshocc.com/events/details/live-music-in-big-spring-park-09-09-2021-7873
END:VEVENT

END:VCALENDAR
