BEGIN:VCALENDAR
VERSION:2.0
PRODID:-//ChamberMaster//Event Calendar 2.0//EN
METHOD:PUBLISH
X-PUBLISHED-TTL:P3D
REFRESH-INTERVAL:P3D
CALSCALE:GREGORIAN
BEGIN:VEVENT
DTSTART:20141004T120000Z
DTEND:20141004T153000Z
X-MICROSOFT-CDO-ALLDAYEVENT:FALSE
SUMMARY:Lions Club Pancake Feed at The Civic
DESCRIPTION:Lions Club is sponsoring a Pancake Feed at the Neosho Civic.  Proceeds help benefit local children with eye exams and eye glasses.  Choose from Biscuits & Sausage Gravy and/or Pancakes!
X-ALT-DESC;FMTTYPE=text/html:Lions Club is sponsoring a Pancake Feed at the Neosho Civic.&nbsp\; Proceeds help benefit local children with eye exams and eye glasses.&nbsp\; Choose from Biscuits &amp\; Sausage Gravy and/or Pancakes!
LOCATION:The Neosho Civic
UID:e.2144.46
SEQUENCE:3
DTSTAMP:20260422T134217Z
URL:https://neoshocc.com/events/details/lions-club-pancake-feed-at-the-civic-10-04-2014-46
END:VEVENT

END:VCALENDAR
