BEGIN:VCALENDAR
VERSION:2.0
PRODID:-//ChamberMaster//Event Calendar 2.0//EN
METHOD:PUBLISH
X-PUBLISHED-TTL:P3D
REFRESH-INTERVAL:P3D
CALSCALE:GREGORIAN
BEGIN:VEVENT
DTSTART:20240225T200000Z
DTEND:20240225T220000Z
X-MICROSOFT-CDO-ALLDAYEVENT:FALSE
SUMMARY:Lightwire Theater: The Ugly Duckling
DESCRIPTION:A semi-finalist on NBC's America's Got Talent\, Lightwire Theater is a unique entertainment experience that uses a cutting-edge blend of light\, technology\, and music to tell captivating stories. With dazzling visuals\, poignant choreography\, and their signature brand of electroluminescent artistry\, Lightwire Theater invites audiences of all ages to experience the classic tale of The Ugly Duckling in a new and brilliant light!
X-ALT-DESC;FMTTYPE=text/html:A semi-finalist on NBC&rsquo\;s America&rsquo\;s Got Talent\, Lightwire Theater is a unique entertainment experience that uses a cutting-edge blend of light\, technology\, and music to tell captivating stories. With dazzling visuals\, poignant choreography\, and their signature brand of electroluminescent artistry\, Lightwire Theater invites audiences of all ages to experience the classic tale of The Ugly Duckling in a new and brilliant light!
LOCATION:Harry M. Cornell Arts & Entertainment Complex located at 212 West 7th Street\, Joplin\, MO 64801
UID:e.2144.11152
SEQUENCE:3
DTSTAMP:20260421T092103Z
URL:https://neoshocc.com/events/details/lightwire-theater-the-ugly-duckling-11152
END:VEVENT

END:VCALENDAR
