BEGIN:VCALENDAR
VERSION:2.0
PRODID:-//ChamberMaster//Event Calendar 2.0//EN
METHOD:PUBLISH
X-PUBLISHED-TTL:P3D
REFRESH-INTERVAL:P3D
CALSCALE:GREGORIAN
BEGIN:VEVENT
DTSTART:20200109T000000Z
DTEND:20200109T030000Z
X-MICROSOFT-CDO-ALLDAYEVENT:FALSE
SUMMARY:LBCB Craft Night: Lantern Snowman Painting
DESCRIPTION:This adorable snowman is 4 feet tall and 16 inches wide! He is sure to look amazing anywhere you put him for the winter!!
X-ALT-DESC;FMTTYPE=text/html:This adorable snowman is 4 feet tall and 16 inches wide! He is sure to look amazing anywhere you put him for the winter!!&nbsp\;
LOCATION:The Little Blue Craft Barn
UID:e.2144.5487
SEQUENCE:3
DTSTAMP:20260424T231440Z
URL:https://neoshocc.com/events/details/lbcb-craft-night-lantern-snowman-painting-5487
END:VEVENT

END:VCALENDAR
