BEGIN:VCALENDAR
VERSION:2.0
PRODID:-//ChamberMaster//Event Calendar 2.0//EN
METHOD:PUBLISH
X-PUBLISHED-TTL:P3D
REFRESH-INTERVAL:P3D
CALSCALE:GREGORIAN
BEGIN:VEVENT
DTSTART:20140910T140000Z
DTEND:20140912T170000Z
X-MICROSOFT-CDO-ALLDAYEVENT:FALSE
SUMMARY:Last Chance Taste of Home Cookbook Offer
DESCRIPTION:Special Last Chance Offer to get the Newest Taste of Home Cookbook\, "1380 Busy Family Recipes"  All New Edition for Fall 2014!  Order by Friday NOON to get it for the Special Show Price of $25.00!  We will be placing an order on Friday\, September 12th.  We will notify you for pick up at the Chamber Office when they arrive!
X-ALT-DESC;FMTTYPE=text/html:Special Last Chance Offer to get the Newest Taste of Home Cookbook\, &quot\;1380 Busy Family Recipes&quot\;&nbsp\; All New Edition for Fall 2014!&nbsp\; Order by Friday NOON to get it for the Special Show Price of $25.00!&nbsp\; We will be placing an order on Friday\, September 12th.&nbsp\; We will notify you for pick up at the Chamber Office when they arrive!
LOCATION:Neosho Area Chamber of Commerce 216 W. Spring St. Neosho\, MO 64850
UID:e.2144.31
SEQUENCE:3
DTSTAMP:20260422T150849Z
URL:https://neoshocc.com/events/details/last-chance-taste-of-home-cookbook-offer-09-10-2014-31
END:VEVENT

END:VCALENDAR
