BEGIN:VCALENDAR
VERSION:2.0
PRODID:-//ChamberMaster//Event Calendar 2.0//EN
METHOD:PUBLISH
X-PUBLISHED-TTL:P3D
REFRESH-INTERVAL:P3D
CALSCALE:GREGORIAN
BEGIN:VEVENT
DTSTART:20141220T000000Z
DTEND:20141220T030000Z
X-MICROSOFT-CDO-ALLDAYEVENT:FALSE
SUMMARY:Ladies Night Out- Ozark Ordnance
DESCRIPTION:This is a WOMEN'S ONLY event\, after hours\, with a chance for women to shop for themselves or their spouse/SO in a relaxed\, educational atmosphere.  There  will be a COACH purse giveaway drawing\, FREE Pearl Earrings with each gun purchase\, Hot Cider\, hor d'oeuvres\, signups for Women Concealed Carry Classes\, and a sign up for a women only shooting/range day at Ozark Ordnance.
X-ALT-DESC;FMTTYPE=text/html:<span style="language: en-US\;"><span style="font-size: 18pt\;"><span style="font-family: calibri\;"><span style="color: fuchsia\;">This is a WOMEN&rsquo\;S ONLY event\, after hours\, with a chance for women to shop for themselves or their spouse/SO in a relaxed\, educational atmosphere.&nbsp\; There&nbsp\; will be a COACH purse giveaway drawing\, FREE Pearl Earrings with each gun purchase\, Hot Cider\, </span></span></span></span><span style="language: en-US\;"><span style="font-size: 18pt\;"><span style="font-family: calibri\;"><span style="color: fuchsia\;">hor</span></span></span></span><span style="language: en-US\;"><span style="font-size: 18pt\;"><span style="font-family: calibri\;"><span style="color: fuchsia\;"> d&#39\;oeuvres\, signups for Women Concealed Carry Classes\, and a sign up for a women only shooting/range day at Ozark Ordnance.</span></span></span></span><br />\n&nbsp\;
LOCATION:19730 Hwy 59 Neosho\, MO 64850
UID:e.2144.99
SEQUENCE:3
DTSTAMP:20260422T104036Z
URL:https://neoshocc.com/events/details/ladies-night-out-ozark-ordnance-12-19-2014-99
END:VEVENT

END:VCALENDAR
