BEGIN:VCALENDAR
VERSION:2.0
PRODID:-//ChamberMaster//Event Calendar 2.0//EN
METHOD:PUBLISH
X-PUBLISHED-TTL:P3D
REFRESH-INTERVAL:P3D
CALSCALE:GREGORIAN
BEGIN:VEVENT
DTSTART:20160317T223000Z
DTEND:20160318T010000Z
X-MICROSOFT-CDO-ALLDAYEVENT:FALSE
SUMMARY:Ladies Night
DESCRIPTION:One24 Boutique will be having a Ladies Night tonight before their opening on Saturday\, March 19th.
X-ALT-DESC;FMTTYPE=text/html:One24 Boutique will be having a Ladies Night tonight before their opening on Saturday\, March 19th.
LOCATION:13105 Kodiak Rd. In front of Neosho Graphics and Competitors Warehouse
UID:e.2144.1626
SEQUENCE:3
DTSTAMP:20260421T114757Z
URL:https://neoshocc.com/events/details/ladies-night-03-17-2016-1626
END:VEVENT

END:VCALENDAR
