BEGIN:VCALENDAR
VERSION:2.0
PRODID:-//ChamberMaster//Event Calendar 2.0//EN
METHOD:PUBLISH
X-PUBLISHED-TTL:P3D
REFRESH-INTERVAL:P3D
CALSCALE:GREGORIAN
BEGIN:VEVENT
DTSTART:20141108T230000Z
DTEND:20141109T020000Z
X-MICROSOFT-CDO-ALLDAYEVENT:FALSE
SUMMARY:Labor of Love Auction & Hog Roast to Benefit The Neosho Christian School
DESCRIPTION:Neosho Christian School Family FUN-Raiser\n\nNCS Labor of Love Auction
X-ALT-DESC;FMTTYPE=text/html:Neosho Christian School Family FUN-Raiser<br />\nNCS Labor of Love Auction<br />\n&nbsp\;&nbsp\;&nbsp\;
LOCATION:Neosho Civic Center 109 W. Main Neosho\, MO 64850
UID:e.2144.80
SEQUENCE:3
DTSTAMP:20260422T122151Z
URL:https://neoshocc.com/events/details/labor-of-love-auction-hog-roast-to-benefit-the-neosho-christian-school-11-08-2014-80
END:VEVENT

END:VCALENDAR
