BEGIN:VCALENDAR
VERSION:2.0
PRODID:-//ChamberMaster//Event Calendar 2.0//EN
METHOD:PUBLISH
X-PUBLISHED-TTL:P3D
REFRESH-INTERVAL:P3D
CALSCALE:GREGORIAN
BEGIN:VEVENT
DTSTART:20210510T193000Z
DTEND:20210510T203000Z
X-MICROSOFT-CDO-ALLDAYEVENT:FALSE
SUMMARY:Kona Ice at Freeman Neosho Hospital
DESCRIPTION:Freeman Neosho Hospital  \n\nKona Ice\n\nA portion of the proceeds benefits the Freeman Neosho Hospital Chaplain's Fund
X-ALT-DESC;FMTTYPE=text/html:Freeman Neosho Hospital&nbsp\;&nbsp\;<br />\nKona Ice<br />\nA portion of the proceeds benefits the Freeman Neosho Hospital Chaplain&#39\;s Fund
LOCATION:Freeman Neosho Hospital The South Parking Lot
UID:e.2144.7618
SEQUENCE:3
DTSTAMP:20260423T181303Z
URL:https://neoshocc.com/events/details/kona-ice-at-freeman-neosho-hospital-7618
END:VEVENT

END:VCALENDAR
