BEGIN:VCALENDAR
VERSION:2.0
PRODID:-//ChamberMaster//Event Calendar 2.0//EN
METHOD:PUBLISH
X-PUBLISHED-TTL:P3D
REFRESH-INTERVAL:P3D
CALSCALE:GREGORIAN
BEGIN:VEVENT
DTSTART;VALUE=DATE:20190817
DTEND;VALUE=DATE:20190901
TRANSP:TRANSPARENT
X-MICROSOFT-CDO-ALLDAYEVENT:TRUE
SUMMARY:Kindred at Home's 15th Annual Food Drive
DESCRIPTION:Kindred at Home's 15th Annual Food Drive\n\nTogether\, we can make our community even better - one meal at a time.\n\nWe invite you to join us in collecting food and personal items in support of Hope Kitchen.\n\nAll items collected will be donated for distribution to the community.\n\nThe following high-demand items are requested (no perishable or expired itemd\, please):\n\nNon-perishable food items\n\nPersonal hygiene products\n\nTo participate\, please place items in bags located at the Neosho Area Chamber of Commerce and Avalon Hospice.\n\nWe collect all donated items at the end of the month.\n\nContact: Kari Bertalotto\n\nPhone: 417-439-2252
X-ALT-DESC;FMTTYPE=text/html:Kindred at Home&#39\;s 15th Annual Food Drive<br />\nTogether\, we can make our community even better - one meal at a time.<br />\nWe invite you to join us in collecting food and personal items in support of Hope Kitchen.<br />\nAll items collected will be donated for distribution to the community.<br />\nThe following high-demand items are requested (no perishable or expired itemd\, please):<br />\nNon-perishable food items<br />\nPersonal hygiene products<br />\nTo participate\, please place items in bags located at the Neosho Area Chamber of Commerce and Avalon Hospice.<br />\nWe collect all donated items at the end of the month.<br />\nContact: Kari Bertalotto<br />\nPhone: 417-439-2252
LOCATION:Neosho Area Chamber of Commerce 216 West Spring Street Neosho\, MO 64850 Avalon Hospice 2024 Maiden Lane Suite 202 Joplin\, MO 64804
UID:e.2144.2701
SEQUENCE:3
DTSTAMP:20260419T142612Z
URL:https://neoshocc.com/events/details/kindred-at-home-s-15th-annual-food-drive-2701
END:VEVENT

END:VCALENDAR
