BEGIN:VCALENDAR
VERSION:2.0
PRODID:-//ChamberMaster//Event Calendar 2.0//EN
METHOD:PUBLISH
X-PUBLISHED-TTL:P3D
REFRESH-INTERVAL:P3D
CALSCALE:GREGORIAN
BEGIN:VEVENT
DTSTART:20220719T220000Z
DTEND:20220720T020000Z
X-MICROSOFT-CDO-ALLDAYEVENT:FALSE
SUMMARY:KidsKicks
DESCRIPTION:Shoe Sensation Neosho is partnering with area children's charities to collect and donate shoes\, socks and backpacks for students in the local community for back to school. We are asking businesses to "adpot" a student and purchase a new pair of shoes\, socks and and a backpack. Shoe Sensation will give 10% off each item when a business makes a purchase during the event.
X-ALT-DESC;FMTTYPE=text/html:Shoe Sensation Neosho is partnering with area children&#39\;s charities to collect and donate shoes\, socks and backpacks for students in the local community for back to school. We are asking businesses to &quot\;adpot&quot\; a student and purchase a new pair of shoes\, socks and and a backpack. Shoe Sensation will give 10% off each item when a business makes a purchase during the event.
LOCATION:1166 S. Neosho Blvd. Neosho\, MO 64850
UID:e.2144.8304
SEQUENCE:3
DTSTAMP:20260424T104158Z
URL:https://neoshocc.com/events/details/kidskicks-8304
END:VEVENT

END:VCALENDAR
