BEGIN:VCALENDAR
VERSION:2.0
PRODID:-//ChamberMaster//Event Calendar 2.0//EN
METHOD:PUBLISH
X-PUBLISHED-TTL:P3D
REFRESH-INTERVAL:P3D
CALSCALE:GREGORIAN
BEGIN:VEVENT
DTSTART:20250522T223000Z
DTEND:20250522T233000Z
X-MICROSOFT-CDO-ALLDAYEVENT:FALSE
SUMMARY:Kids Need Kiwanis
DESCRIPTION:Join Us for a Kiwanis Club of Neosho Area Information Session!\n\nAre you looking for a way to make a positive impact in our community and help shape the future for children? Join us on Thursday\, May 22\, at 5:30 p.m. at Southwest Missouri Bank\, located at 110 N. Neosho Blvd.\, Neosho\, to learn more about the Kiwanis Club of Neosho Area and how you can get involved.\n\nThis is a great opportunity to find out how you can contribute to our mission of serving children and improving our community. Whether you're interested in volunteering\, becoming a member\, or just learning more about the organization\, we'd love to have you with us!\n\nFor more information\, feel free to contact us at membership@kiwanis.org or visit our Facebook page at Facebook.com/NeoshoAreaMOKiwanis.
X-ALT-DESC;FMTTYPE=text/html:<p data-end="108" data-start="42"><strong data-end="108" data-start="42">Join Us for a Kiwanis Club of Neosho Area Information Session!</strong></p>\n\n<p data-end="426" data-start="110">Are you looking for a way to make a positive impact in our community and help shape the future for children? Join us on <strong data-end="250" data-start="230">Thursday\, May 22</strong>\, at <strong data-end="268" data-start="255">5:30 p.m.</strong> at <strong data-end="299" data-start="272">Southwest Missouri Bank</strong>\, located at <strong data-end="343" data-start="312">110 N. Neosho Blvd.\, Neosho</strong>\, to learn more about the Kiwanis Club of Neosho Area and how you can get involved.</p>\n\n<p data-end="693" data-start="428">This is a great opportunity to find out how you can contribute to our mission of serving children and improving our community. Whether you&#39\;re interested in volunteering\, becoming a member\, or just learning more about the organization\, we&rsquo\;d love to have you with us!</p>\n\n<p data-end="842" data-start="695">For more information\, feel free to contact us at <strong data-end="770" data-start="744"><a class="cursor-pointer" data-end="768" data-start="746" rel="noopener">membership@kiwanis.org</a></strong> or visit our <strong data-end="801" data-start="784">Facebook page</strong> at <strong data-end="841" data-start="805">Facebook.com/NeoshoAreaMOKiwanis</strong>.</p>\n
LOCATION:Southwest Missouri Bank\, located at 110 N. Neosho Blvd.\, Neosho\,
UID:e.2144.16501
SEQUENCE:3
DTSTAMP:20260422T083849Z
URL:https://neoshocc.com/events/details/kids-need-kiwanis-16501
END:VEVENT

END:VCALENDAR
