BEGIN:VCALENDAR
VERSION:2.0
PRODID:-//ChamberMaster//Event Calendar 2.0//EN
METHOD:PUBLISH
X-PUBLISHED-TTL:P3D
REFRESH-INTERVAL:P3D
CALSCALE:GREGORIAN
BEGIN:VEVENT
DTSTART:20141206T150000Z
DTEND:20141206T220000Z
X-MICROSOFT-CDO-ALLDAYEVENT:FALSE
SUMMARY:Kids Crafting Christmas
DESCRIPTION:Kids Crafting Christmas sponsored by the University of Missouri Extension Office.  Parents will be able to take care of their Christmas Shopping while children create gifts of their own to put under the family Christmas tree. For more details please call 417-455-9500
X-ALT-DESC;FMTTYPE=text/html:Kids Crafting Christmas sponsored by the University of Missouri Extension Office.&nbsp\; Parents will be able to take care of their Christmas Shopping while children create gifts of their own to put under the family Christmas tree. For more details please call 417-455-9500
LOCATION:Redings Mill Fire Protection District 344 Redings Mill Road
UID:e.2144.89
SEQUENCE:3
DTSTAMP:20260422T115626Z
URL:https://neoshocc.com/events/details/kids-crafting-christmas-12-06-2014-89
END:VEVENT

END:VCALENDAR
