BEGIN:VCALENDAR
VERSION:2.0
PRODID:-//ChamberMaster//Event Calendar 2.0//EN
METHOD:PUBLISH
X-PUBLISHED-TTL:P3D
REFRESH-INTERVAL:P3D
CALSCALE:GREGORIAN
BEGIN:VEVENT
DTSTART:20160229T160000Z
DTEND:20160229T200000Z
X-MICROSOFT-CDO-ALLDAYEVENT:FALSE
SUMMARY:Kick-Off Health Check/Weigh-in- The Biggest Loser Community Challege
DESCRIPTION:The Biggest Loser Community Challenge-Neosho kicks off on Monday February 29th.  The Freeman Screen team will be at the office from 10am to 2pm offering FREE kick-off Health Check/Weigh-in!  They will also do a final Health Check to track progress in 8 weeks.
X-ALT-DESC;FMTTYPE=text/html:The Biggest Loser Community Challenge-Neosho kicks off on Monday February 29th.&nbsp\; The Freeman Screen team will be at the office from 10am to 2pm offering FREE kick-off Health Check/Weigh-in!&nbsp\; They will also do a final Health Check to track progress in 8 weeks.
LOCATION:Neosho Area Chamber of Commerce 216 W. Spring Neosho\, MO 64850
UID:e.2144.1611
SEQUENCE:3
DTSTAMP:20260421T130755Z
URL:https://neoshocc.com/events/details/kick-off-health-check-weigh-in-the-biggest-loser-community-challege-02-29-2016-1611
END:VEVENT

END:VCALENDAR
