BEGIN:VCALENDAR
VERSION:2.0
PRODID:-//ChamberMaster//Event Calendar 2.0//EN
METHOD:PUBLISH
X-PUBLISHED-TTL:P3D
REFRESH-INTERVAL:P3D
CALSCALE:GREGORIAN
BEGIN:VEVENT
DTSTART:20190812T220000Z
DTEND:20190812T230000Z
X-MICROSOFT-CDO-ALLDAYEVENT:FALSE
SUMMARY:Kent Farnsworth aka Allen Kent
DESCRIPTION:Genealogy Friends of the Library present\n\nKent Farnsworth aka Allen Kent\n\nauthor of the "Unit 1" thrillers\, historical fiction "Whitlock Trilogy" and works of academic non-fiction will speak on self-publishing your family history.
X-ALT-DESC;FMTTYPE=text/html:Genealogy Friends of the Library present<br />\nKent Farnsworth aka Allen Kent<br />\nauthor of the &quot\;Unit 1&quot\; thrillers\, historical fiction &quot\;Whitlock Trilogy&quot\; and works of academic non-fiction will speak on self-publishing your family history.
LOCATION:The Neosho-Newton County Library Room
UID:e.2144.2658
SEQUENCE:3
DTSTAMP:20260421T085209Z
URL:https://neoshocc.com/events/details/kent-farnsworth-aka-allen-kent-2658
END:VEVENT

END:VCALENDAR
