BEGIN:VCALENDAR
VERSION:2.0
PRODID:-//ChamberMaster//Event Calendar 2.0//EN
METHOD:PUBLISH
X-PUBLISHED-TTL:P3D
REFRESH-INTERVAL:P3D
CALSCALE:GREGORIAN
BEGIN:VEVENT
DTSTART:20260621T180000Z
DTEND:20260621T190000Z
X-MICROSOFT-CDO-ALLDAYEVENT:FALSE
SUMMARY:Juneteenth Celebration
DESCRIPTION:Join park staff for a special program on the history and significance of Juneteenth\, a holiday celebrating the end of slavery in the U.S.
X-ALT-DESC;FMTTYPE=text/html:<span style="color:rgb(0\, 0\, 0)\; font-family:-apple-system\,blinkmacsystemfont\,segoe ui\,roboto\,helvetica\,arial\,sans-serif\,apple color emoji\,segoe ui emoji\,segoe ui symbol">Join park staff for a special program on the history and significance of Juneteenth\, a holiday celebrating the end of slavery in the&nbsp\;U.S.</span>
LOCATION:George Washington Carver NM 5646 Carver Rd. Diamond MO 64840
UID:e.2144.19800
SEQUENCE:3
DTSTAMP:20260422T112107Z
URL:https://neoshocc.com/events/details/juneteenth-celebration-19800
END:VEVENT

END:VCALENDAR
