BEGIN:VCALENDAR
VERSION:2.0
PRODID:-//ChamberMaster//Event Calendar 2.0//EN
METHOD:PUBLISH
X-PUBLISHED-TTL:P3D
REFRESH-INTERVAL:P3D
CALSCALE:GREGORIAN
BEGIN:VEVENT
DTSTART:20190604T151500Z
DTEND:20190604T153000Z
X-MICROSOFT-CDO-ALLDAYEVENT:FALSE
SUMMARY:June Business of the Month - Southwest Missouri Bank
DESCRIPTION:You are invited as we recognize the staff at Southwest Missouri Bank Neosho as our June 2019 Business of the Month.
X-ALT-DESC;FMTTYPE=text/html:<div style="color: gray\;">You are invited&nbsp\;as we recognize the staff at Southwest Missouri Bank Neosho&nbsp\;as our June 2019 Business of the Month.</div>\n
LOCATION:Southwest Missouri Bank 110 N. Neosho Blvd. Neosho\, MO 64850
UID:e.2144.2537
SEQUENCE:3
DTSTAMP:20260424T003421Z
URL:https://neoshocc.com/events/details/june-business-of-the-month-southwest-missouri-bank-2537
END:VEVENT

END:VCALENDAR
