BEGIN:VCALENDAR
VERSION:2.0
PRODID:-//ChamberMaster//Event Calendar 2.0//EN
METHOD:PUBLISH
X-PUBLISHED-TTL:P3D
REFRESH-INTERVAL:P3D
CALSCALE:GREGORIAN
BEGIN:VEVENT
DTSTART:20151015T220000Z
DTEND:20151016T000000Z
X-MICROSOFT-CDO-ALLDAYEVENT:FALSE
SUMMARY:Judy Haas Smith Book Signing - Longwell Museum "Larger Than Life The Legacy of Daniel Longwell & Mary Fraser Longwell
DESCRIPTION:Judy Haas Smith book signing event\, October 15\, 5-7pm\, in the Longwell Museum. Larger Than Life The Legacy of Daniel Longwell and Mary Fraser Longwell is the title of the biography written by Smith. An interview between Smith and Dr. Methvin will take place followed by book signings. Books will be available for purchase that evening for $20\, with $10 being donated back to the museum. Make plans to attend.
X-ALT-DESC;FMTTYPE=text/html:<div style="color: gray\;"><span style="font-size: medium\;"><span style="font-family: calibri\;"><strong>Judy Haas Smith book signing event\, October 15\, 5-7pm\, in the Longwell Museum. <em>Larger Than Life The Legacy of Daniel Longwell and Mary Fraser Longwell</em> </strong>is the title of the biography written by Smith<strong>. </strong>An interview between Smith and Dr. Methvin will take place followed by book signings. Books will be available for purchase that evening for $20\, with $10 being donated back to the museum. Make plans to attend.</span></span><br />\n&nbsp\;</div>\n
LOCATION:Longwell Museum inside the Elsie Plaster Building at Crowder College
UID:e.2144.1476
SEQUENCE:3
DTSTAMP:20260421T185435Z
URL:https://neoshocc.com/events/details/judy-haas-smith-book-signing-longwell-museum-larger-than-life-the-legacy-of-daniel-longwell-mary-fraser-longwell-10-15-2015-1476
END:VEVENT

END:VCALENDAR
