BEGIN:VCALENDAR
VERSION:2.0
PRODID:-//ChamberMaster//Event Calendar 2.0//EN
METHOD:PUBLISH
X-PUBLISHED-TTL:P3D
REFRESH-INTERVAL:P3D
CALSCALE:GREGORIAN
BEGIN:VEVENT
DTSTART:20160127T160000Z
DTEND:20160127T163000Z
X-MICROSOFT-CDO-ALLDAYEVENT:FALSE
SUMMARY:January Business/Employer of the Month
DESCRIPTION:Join us as we celebrate January's Business/Employer of the Month: One14 Coffee Bar & Venue.
X-ALT-DESC;FMTTYPE=text/html:Join us as we celebrate January&#39\;s Business/Employer of the Month: One14 Coffee Bar &amp\; Venue.
LOCATION:
UID:e.2144.1541
SEQUENCE:3
DTSTAMP:20260421T144833Z
URL:https://neoshocc.com/events/details/january-business-employer-of-the-month-01-27-2016-1541
END:VEVENT

END:VCALENDAR
