BEGIN:VCALENDAR
VERSION:2.0
PRODID:-//ChamberMaster//Event Calendar 2.0//EN
METHOD:PUBLISH
X-PUBLISHED-TTL:P3D
REFRESH-INTERVAL:P3D
CALSCALE:GREGORIAN
BEGIN:VEVENT
DTSTART:20210701T230000Z
DTEND:20210702T003000Z
X-MICROSOFT-CDO-ALLDAYEVENT:FALSE
SUMMARY:Jams and Jellies Canning Workshop
DESCRIPTION:Whether you are new to canning\, or just need a refresher on something you've been doing for years\, University of Missouri Extension's Food Preservation Series can help you preserve your produce safely and efficiently. The workshop is $20 per person. You must pre-register by June 29th. To register\, please contact Newton County Extension at 417-455-9500.
X-ALT-DESC;FMTTYPE=text/html:Whether you are new to canning\, or just need a refresher on something you&#39\;ve been doing for years\, University of Missouri Extension&#39\;s Food Preservation Series can help you preserve your produce safely and efficiently. The workshop is $20 per person. You must pre-register by June 29th. To register\, please contact Newton County Extension at 417-455-9500.
LOCATION:Fairview Community Center 110 W Main St. Fairview\, MO 64842
UID:e.2144.7664
SEQUENCE:3
DTSTAMP:20260423T162242Z
URL:https://neoshocc.com/events/details/jams-and-jellies-canning-workshop-7664
END:VEVENT

END:VCALENDAR
