BEGIN:VCALENDAR
VERSION:2.0
PRODID:-//ChamberMaster//Event Calendar 2.0//EN
METHOD:PUBLISH
X-PUBLISHED-TTL:P3D
REFRESH-INTERVAL:P3D
CALSCALE:GREGORIAN
BEGIN:VEVENT
DTSTART;VALUE=DATE:20150616
DTEND;VALUE=DATE:20150617
TRANSP:TRANSPARENT
X-MICROSOFT-CDO-ALLDAYEVENT:TRUE
SUMMARY:Ivy League Farmer - Local Premiere - B & B Neosho Cinema 6
DESCRIPTION:You are cordially invited to the Local Premiere "Ivy League Farmer" An exclusive viewing of the motion picture before it is released to millions.
X-ALT-DESC;FMTTYPE=text/html:You are cordially invited to the Local Premiere &quot\;Ivy League Farmer&quot\; An exclusive viewing of the motion picture before it is released to millions.
LOCATION:B & B Neosho Cinema 6 1601 Malcom Mosby Drive Neosho\, Mo 64850
UID:e.2144.257
SEQUENCE:3
DTSTAMP:20260422T011647Z
URL:https://neoshocc.com/events/details/ivy-league-farmer-local-premiere-b-b-neosho-cinema-6-06-16-2015-257
END:VEVENT

END:VCALENDAR
