BEGIN:VCALENDAR
VERSION:2.0
PRODID:-//ChamberMaster//Event Calendar 2.0//EN
METHOD:PUBLISH
X-PUBLISHED-TTL:P3D
REFRESH-INTERVAL:P3D
CALSCALE:GREGORIAN
BEGIN:VEVENT
DTSTART:20160516T163000Z
DTEND:20160516T190000Z
X-MICROSOFT-CDO-ALLDAYEVENT:FALSE
SUMMARY:International Trade: Policy Update from the US Chamber
DESCRIPTION:International Trade: Policy Update \n\nChristopher Wenk\, Executive Director\, International Policy \n\nU.S. Chamber of Commerce \n\nMonday\, May 16 Registration/Networking at 11:30 a.m. Lunch/Program at 12 p.m. Joplin Area Chamber of Commerce
X-ALT-DESC;FMTTYPE=text/html:<p align="LEFT">&nbsp\;</p>\n\n<p><b><font size="3">International Trade</font><font color="#1f487c" size="3"><font color="#1f487c" size="3">: </font></font><font size="3">Policy Update </font></b></p>\n\n<p><b><font size="3">Christopher Wenk\, Executive Director\, International Policy </font></b></p>\n\n<p><b><font size="3">U.S. Chamber of Commerce </font></b></p>\n\n<p><b><font size="3">Monday\, May 16 Registration/Networking at 11:30 a.m. Lunch/Program at 12 p.m. Joplin Area Chamber of Commerce </font></b></p>\n
LOCATION:Joplin Area Chamber of Commerce
UID:e.2144.1656
SEQUENCE:3
DTSTAMP:20260421T101744Z
URL:https://neoshocc.com/events/details/international-trade-policy-update-from-the-us-chamber-05-16-2016-1656
END:VEVENT

END:VCALENDAR
