BEGIN:VCALENDAR
VERSION:2.0
PRODID:-//ChamberMaster//Event Calendar 2.0//EN
METHOD:PUBLISH
X-PUBLISHED-TTL:P3D
REFRESH-INTERVAL:P3D
CALSCALE:GREGORIAN
BEGIN:VEVENT
DTSTART:20160408T120000Z
DTEND:20160409T200000Z
X-MICROSOFT-CDO-ALLDAYEVENT:FALSE
SUMMARY:Indoor Garage Sale - Over 75 Booths Inside Mills Park Centre
DESCRIPTION:The Neosho Area Chamber of Commerce is excited to announce that Missouri's Largest Garage Sale just got BIGGER!  We have over 75 Booths available for rent INSIDE the Mills Park Centre Building in the Heart of Downtown Neosho during the 28th Annual City Wide Garage Sale\, Friday & Saturday April 8th & 9th!
X-ALT-DESC;FMTTYPE=text/html:The Neosho Area Chamber of Commerce is excited to announce that Missouri&#39\;s Largest Garage Sale just got BIGGER!&nbsp\; We have over 75 Booths available for rent INSIDE the Mills Park Centre Building in the Heart of Downtown Neosho during the 28th Annual City Wide Garage Sale\, Friday &amp\; Saturday April 8th &amp\; 9th!
LOCATION:Mills Park Centre 100 N College Neosho\, MO
UID:e.2144.1622
SEQUENCE:3
DTSTAMP:20260421T101743Z
URL:https://neoshocc.com/events/details/indoor-garage-sale-over-75-booths-inside-mills-park-centre-04-08-2016-1622
END:VEVENT

END:VCALENDAR
