BEGIN:VCALENDAR
VERSION:2.0
PRODID:-//ChamberMaster//Event Calendar 2.0//EN
METHOD:PUBLISH
X-PUBLISHED-TTL:P3D
REFRESH-INTERVAL:P3D
CALSCALE:GREGORIAN
BEGIN:VEVENT
DTSTART:20230320T220000Z
DTEND:20230321T003000Z
X-MICROSOFT-CDO-ALLDAYEVENT:FALSE
SUMMARY:In the Mix Business Mixer
DESCRIPTION:21+ Event for business professionals to mingle\, network\, and enjoy free appetizers. Drinks will be available.
X-ALT-DESC;FMTTYPE=text/html:21+ Event for business professionals to mingle\, network\, and enjoy free appetizers. Drinks will be available.
LOCATION:Club 1201 - 1201 E. 32nd St. Joplin\, MO
UID:e.2144.9260
SEQUENCE:3
DTSTAMP:20260426T021439Z
URL:https://neoshocc.com/events/details/in-the-mix-business-mixer-9260
END:VEVENT

END:VCALENDAR
