BEGIN:VCALENDAR
VERSION:2.0
PRODID:-//ChamberMaster//Event Calendar 2.0//EN
METHOD:PUBLISH
X-PUBLISHED-TTL:P3D
REFRESH-INTERVAL:P3D
CALSCALE:GREGORIAN
BEGIN:VEVENT
DTSTART:20210206T140000Z
DTEND:20210206T200000Z
X-MICROSOFT-CDO-ALLDAYEVENT:FALSE
SUMMARY:Humble Custom Creations & More Pop-up Market
DESCRIPTION:Humble Custom Creations & More will be hosting a Pop-up event Saturday February 6th.\n\n\n\nDuring this event we will have a couple outdoor vendors with 3d-printed items along with our own t-shirt vendor inside where customers can pick from a selection of vinyl that will be pressed onto your choice of shirt and can walk out the door.\n\n\n\nShirts will start at $12 and go up from there. Do not miss this chance to see our new store and shop local handcrafted items
X-ALT-DESC;FMTTYPE=text/html:Humble Custom Creations &amp\; More will be hosting a Pop-up event Saturday February 6th.<br />\n<br />\nDuring this event we will have a couple outdoor vendors with 3d-printed items along with our own t-shirt vendor inside where customers can pick from a selection of vinyl that will be pressed onto your choice of shirt and can walk out the door.<br />\n<br />\nShirts will start at $12 and go up from there. Do not miss this chance to see our new store and shop local handcrafted items
LOCATION:101 West Market Street Diamond\, MO 64840
UID:e.2144.7228
SEQUENCE:3
DTSTAMP:20260421T212834Z
URL:https://neoshocc.com/events/details/humble-custom-creations-more-pop-up-market-7228
END:VEVENT

END:VCALENDAR
