BEGIN:VCALENDAR
VERSION:2.0
PRODID:-//ChamberMaster//Event Calendar 2.0//EN
METHOD:PUBLISH
X-PUBLISHED-TTL:P3D
REFRESH-INTERVAL:P3D
CALSCALE:GREGORIAN
BEGIN:VEVENT
DTSTART:20150724T120000Z
DTEND:20150725T200000Z
X-MICROSOFT-CDO-ALLDAYEVENT:FALSE
SUMMARY:HUGE Indoor Garage Sale
DESCRIPTION:Don't Miss the HUGE Indoor Garage Sale being held at the Mills Park Centre Building\, Friday\, July 24th 7am to 7pm and Saturday\, July 25th 7am to 3pm!  Over 12\,000 sq ft of Garage sales in over 50 booths!
X-ALT-DESC;FMTTYPE=text/html:Don&#39\;t Miss the HUGE Indoor Garage Sale being held at the Mills Park Centre Building\, Friday\, July 24th 7am to 7pm and Saturday\, July 25th 7am to 3pm!&nbsp\; Over 12\,000 sq ft of Garage sales in over 50 booths!
LOCATION:Mills Park Centre 100 N College Neosho\, MO 64850
UID:e.2144.296
SEQUENCE:3
DTSTAMP:20260422T011349Z
URL:https://neoshocc.com/events/details/huge-indoor-garage-sale-07-24-2015-296
END:VEVENT

END:VCALENDAR
