BEGIN:VCALENDAR
VERSION:2.0
PRODID:-//ChamberMaster//Event Calendar 2.0//EN
METHOD:PUBLISH
X-PUBLISHED-TTL:P3D
REFRESH-INTERVAL:P3D
CALSCALE:GREGORIAN
BEGIN:VEVENT
DTSTART:20210916T210000Z
DTEND:20210917T000000Z
X-MICROSOFT-CDO-ALLDAYEVENT:FALSE
SUMMARY:House Party (Open House)
DESCRIPTION:Join West Cobb Alliance of ReeceNichols Real Estate at their House Party (Open House) on Thursday\, September 16th from 4:00 - 7:00 p.m.  Open House for "Just Listed" Properties.  Open to Everyone!  If you are looking to buy a home\, this is a great opportunity to tour and check out new properties that have just been listed before they are SOLD!\n\n\n\nReal Estate Agents are welcome to come\, plus\, bring your buyers!  Or\, you can send your buyers and let us know they are working with you.\n\n\n\nWestCobb Alliance Agents will be at each of the properties to show the homes and answer any questions!  \n\n\n\nAddresses will be announced on Wednesday\, September 15th on the WestCobb Alliance Facebook Page at https://www.facebook.com/westcobballiance.
X-ALT-DESC;FMTTYPE=text/html:Join West Cobb Alliance of ReeceNichols Real Estate at their House Party (Open House) on Thursday\, September 16th from 4:00 - 7:00 p.m.&nbsp\; Open House for &quot\;Just Listed&quot\; Properties.&nbsp\; Open to Everyone!&nbsp\; If you are looking to buy a home\, this is a great opportunity to tour and check out new properties that have just been listed before they are SOLD!<br />\n<br />\nReal Estate Agents are welcome to come\, plus\, bring your buyers!&nbsp\; Or\, you can send your buyers and let us know they are working with you.<br />\n<br />\nWestCobb Alliance Agents will be at each of the properties to show the homes and answer any questions!&nbsp\;&nbsp\;<br />\n<br />\nAddresses will be announced on Wednesday\, September 15th on the WestCobb Alliance Facebook Page at <a href="https://www.facebook.com/westcobballiance">https://www.facebook.com/westcobballiance</a>.&nbsp\;&nbsp\;
LOCATION:Addresses will be announced on Wednesday\, September 15th on the WestCobb Alliance Facebook Page at https://www.facebook.com/westcobballiance.
UID:e.2144.7871
SEQUENCE:3
DTSTAMP:20260423T193518Z
URL:https://neoshocc.com/events/details/house-party-open-house-09-09-2021-7871
END:VEVENT

END:VCALENDAR
