BEGIN:VCALENDAR
VERSION:2.0
PRODID:-//ChamberMaster//Event Calendar 2.0//EN
METHOD:PUBLISH
X-PUBLISHED-TTL:P3D
REFRESH-INTERVAL:P3D
CALSCALE:GREGORIAN
BEGIN:VEVENT
DTSTART:20210715T210000Z
DTEND:20210716T000000Z
X-MICROSOFT-CDO-ALLDAYEVENT:FALSE
SUMMARY:House Party (Open House)
DESCRIPTION:Join West Cobb Alliance of ReeceNichols Real Estate at their House Party (Open House) on Thursday\, July 15th from 4:00 - 7:00 p.m.  This will be a "Just Listed" Property.  Open to Everyone!  If you are looking to buy a home\, this is a great opportunity to tour and check out this new property that has just been listed before it is SOLD!\n\n\n\nReal Estate Agents are welcome to come\, plus\, bring your buyers!  Or\, you can send your buyers and let us know they are working with you.\n\n\n\nWestCobb Alliance Agents will be at the property to show the home and answer any questions!  \n\n\n\nAddress will be announced on Wednesday\, July 14th on the WestCobb Alliance Facebook Page.
X-ALT-DESC;FMTTYPE=text/html:Join West Cobb Alliance of ReeceNichols Real Estate at their House Party (Open House) on Thursday\, July 15th from 4:00 - 7:00 p.m.&nbsp\; This will be a &quot\;Just Listed&quot\; Property.&nbsp\; Open to Everyone!&nbsp\; If you are looking to buy a home\, this is a great opportunity to tour and check out this new property that has just been listed before it is SOLD!<br />\n<br />\nReal Estate Agents are welcome to come\, plus\, bring your buyers!&nbsp\; Or\, you can send your buyers and let us know they are working with you.<br />\n<br />\nWestCobb Alliance Agents will be at the property to show the home and answer any questions!&nbsp\;&nbsp\;<br />\n<br />\nAddress will be announced on Wednesday\, July 14th on the WestCobb Alliance Facebook Page.&nbsp\;&nbsp\;
LOCATION:Address will be announced on Wednesday\, July 14th on the WestCobb Alliance Facebook Page
UID:e.2144.7693
SEQUENCE:3
DTSTAMP:20260423T162602Z
URL:https://neoshocc.com/events/details/house-party-open-house-07-15-2021-7693
END:VEVENT

END:VCALENDAR
