BEGIN:VCALENDAR
VERSION:2.0
PRODID:-//ChamberMaster//Event Calendar 2.0//EN
METHOD:PUBLISH
X-PUBLISHED-TTL:P3D
REFRESH-INTERVAL:P3D
CALSCALE:GREGORIAN
BEGIN:VEVENT
DTSTART:20220407T210000Z
DTEND:20220407T230000Z
X-MICROSOFT-CDO-ALLDAYEVENT:FALSE
SUMMARY:House Party (Open House)
DESCRIPTION:Join West Cobb Alliance of ReeceNichols Real Estate at their House Party (Open House) on Thursday\, April 7th from 4:00 - 6:00 p.m.  Open House for "Just Listed" Properties.  Open to Everyone!  If you are looking to buy a home\, this is a great opportunity to tour and check out new properties that have just been listed before they are SOLD!\n\n\n\nReal Estate Agents are welcome to come\, plus\, bring your buyers!  Or\, you can send your buyers and let us know they are working with you.\n\n\n\nWestCobb Alliance Agents will be at the properties to show the home and answer any questions!  \n\n\n\nAddresses will be announced on Wednesday\, April 6th on the WestCobb Alliance Facebook Page at https://www.facebook.com/westcobballiance.
X-ALT-DESC;FMTTYPE=text/html:Join West Cobb Alliance of ReeceNichols Real Estate at their House Party (Open House) on Thursday\, April 7th from 4:00 - 6:00 p.m.&nbsp\; Open House for &quot\;Just Listed&quot\; Properties.&nbsp\; Open to Everyone!&nbsp\; If you are looking to buy a home\, this is a great opportunity to tour and check out new properties that have just been listed before they are SOLD!<br />\n<br />\nReal Estate Agents are welcome to come\, plus\, bring your buyers!&nbsp\; Or\, you can send your buyers and let us know they are working with you.<br />\n<br />\nWestCobb Alliance Agents will be at the properties to show the home and answer any questions!&nbsp\;&nbsp\;<br />\n<br />\nAddresses will be announced on Wednesday\, April 6th on the WestCobb Alliance Facebook Page at <a href="https://www.facebook.com/westcobballiance">https://www.facebook.com/westcobballiance</a>.&nbsp\;&nbsp\;&nbsp\;&nbsp\;&nbsp\;&nbsp\;
LOCATION:Addresses will be announced on Wednesday\, April 6th on the WestCobb Alliance Facebook Page at https://www.facebook.com/westcobballiance.
UID:e.2144.8251
SEQUENCE:3
DTSTAMP:20260424T074001Z
URL:https://neoshocc.com/events/details/house-party-open-house-04-07-2022-8251
END:VEVENT

END:VCALENDAR
