BEGIN:VCALENDAR
VERSION:2.0
PRODID:-//ChamberMaster//Event Calendar 2.0//EN
METHOD:PUBLISH
X-PUBLISHED-TTL:P3D
REFRESH-INTERVAL:P3D
CALSCALE:GREGORIAN
BEGIN:VEVENT
DTSTART:20240414T000000Z
DTEND:20240414T020000Z
X-MICROSOFT-CDO-ALLDAYEVENT:FALSE
SUMMARY:Hot Club of Cowtown & Tyler Hilton
DESCRIPTION:Four incredible artists pay homage to the timeless works of the King of Rock and Roll! Since its beginnings in the late 1990s\, the Hot Club of Cowtown has continually been recognized for its jaw-dropping virtuosity and unforgettable live shows. This talented trio weaves together a joyful combination of country\, jazz\, and swing\, remaining "conscious always that above all else\, the music is for dancing and an old fashioned good time" (New York Times). An actor and singer/songwriter\, Tyler Hilton grew up in a family of talented musicians who played for the likes of Fleetwood Mac and George Harrison. An impromptu performance on the air of Los Angeles' KLOS radio launched Hilton's award-winning career\, which includes portraying Elvis Presley in Walk the Line and Chris Keller on One Tree Hill as well as writing and touring with Taylor Swift\, Lady A\, and more. Now\, Tyler Hilton and the Hot Club of Cowtown team up to bring Elvis' most-celebrated hits to life on the stage.
X-ALT-DESC;FMTTYPE=text/html:Four incredible artists pay homage to the timeless works of the King of Rock and Roll! Since its beginnings in the late 1990s\, the Hot Club of Cowtown has continually been recognized for its jaw-dropping virtuosity and unforgettable live shows. This talented trio weaves together a joyful combination of country\, jazz\, and swing\, remaining &ldquo\;conscious always that above all else\, the music is for dancing and an old fashioned good time&rdquo\; (New York Times). An actor and singer/songwriter\, Tyler Hilton grew up in a family of talented musicians who played for the likes of Fleetwood Mac and George Harrison. An impromptu performance on the air of Los Angeles&rsquo\; KLOS radio launched Hilton&rsquo\;s award-winning career\, which includes portraying Elvis Presley in Walk the Line and Chris Keller on One Tree Hill as well as writing and touring with Taylor Swift\, Lady A\, and more. Now\, Tyler Hilton and the Hot Club of Cowtown team up to bring Elvis&rsquo\; most-celebrated hits to life on the stage.
LOCATION:Harry M. Cornell Arts and Entertainment Complex located at 212 West 7th Street Joplin\, MO 64801
UID:e.2144.11158
SEQUENCE:3
DTSTAMP:20260419T192448Z
URL:https://neoshocc.com/events/details/hot-club-of-cowtown-tyler-hilton-11158
END:VEVENT

END:VCALENDAR
