BEGIN:VCALENDAR
VERSION:2.0
PRODID:-//ChamberMaster//Event Calendar 2.0//EN
METHOD:PUBLISH
X-PUBLISHED-TTL:P3D
REFRESH-INTERVAL:P3D
CALSCALE:GREGORIAN
BEGIN:VEVENT
DTSTART:20190831T160000Z
DTEND:20190831T210000Z
X-MICROSOFT-CDO-ALLDAYEVENT:FALSE
SUMMARY:Hope 4 Haiti Car Show
DESCRIPTION:Calling all rides\, show cars\, motorcycles\, trucks\, rat-rods and projects! Join us for a fun relaxing afternoon with the Mitchell's Drug Store crew!
X-ALT-DESC;FMTTYPE=text/html:Calling all rides\, show cars\, motorcycles\, trucks\, rat-rods and projects! Join us for a fun relaxing afternoon with the Mitchell&#39\;s Drug Store crew!<br />\n&nbsp\;
LOCATION:Mitchell's Downtown Drug Store
UID:e.2144.2695
SEQUENCE:3
DTSTAMP:20260421T085037Z
URL:https://neoshocc.com/events/details/hope-4-haiti-car-show-2695
END:VEVENT

END:VCALENDAR
