BEGIN:VCALENDAR
VERSION:2.0
PRODID:-//ChamberMaster//Event Calendar 2.0//EN
METHOD:PUBLISH
X-PUBLISHED-TTL:P3D
REFRESH-INTERVAL:P3D
CALSCALE:GREGORIAN
BEGIN:VEVENT
DTSTART:20141213T190000Z
DTEND:20141213T210000Z
X-MICROSOFT-CDO-ALLDAYEVENT:FALSE
SUMMARY:Holiday Open House - Medicalodges Neosho
DESCRIPTION:You are invited to join the staff and residents of Medicalodges Neosho for a Holiday Open House.  Santa Claus will be there!  Professional Photographer for holiday family photos. (discounted price packages)\n\nSnacks\, Cider\, Candy Canes\, Hot Cider & treats for all!
X-ALT-DESC;FMTTYPE=text/html:You are invited to join the staff and residents of Medicalodges Neosho for a Holiday Open House.&nbsp\; Santa Claus will be there!&nbsp\; Professional Photographer for holiday family photos. (discounted price packages)<br />\nSnacks\, Cider\, Candy Canes\, Hot Cider &amp\; treats for all!
LOCATION:Medicalodges of Neosho 400 Lyon Drive Neosho\, MO 64850
UID:e.2144.97
SEQUENCE:3
DTSTAMP:20260422T104210Z
URL:https://neoshocc.com/events/details/holiday-open-house-medicalodges-neosho-12-13-2014-97
END:VEVENT

END:VCALENDAR
