BEGIN:VCALENDAR
VERSION:2.0
PRODID:-//ChamberMaster//Event Calendar 2.0//EN
METHOD:PUBLISH
X-PUBLISHED-TTL:P3D
REFRESH-INTERVAL:P3D
CALSCALE:GREGORIAN
BEGIN:VEVENT
DTSTART:20141204T230000Z
DTEND:20141205T030000Z
X-MICROSOFT-CDO-ALLDAYEVENT:FALSE
SUMMARY:Holiday Market - VIP Ladies Night
DESCRIPTION:Holiday Market - VIP Ladies Night - Over 50 vendors with unique gifts\, handmade items & gourmet foods.  We will have refreshments\, live music\,  cash bar & lots of giveaways.  Grab your girlfriends and enjoy a fun night out!
X-ALT-DESC;FMTTYPE=text/html:Holiday Market - VIP Ladies Night - Over 50 vendors with unique gifts\, handmade items &amp\; gourmet foods.&nbsp\; We will have refreshments\, live music\,&nbsp\; cash bar &amp\; lots of giveaways.&nbsp\; Grab your girlfriends and enjoy a fun night out!&nbsp\;
LOCATION:Mills Park Centre 100 N. College Neosho\, MO 64850
UID:e.2144.83
SEQUENCE:3
DTSTAMP:20260422T104613Z
URL:https://neoshocc.com/events/details/holiday-market-vip-ladies-night-12-04-2014-83
END:VEVENT

END:VCALENDAR
