BEGIN:VCALENDAR
VERSION:2.0
PRODID:-//ChamberMaster//Event Calendar 2.0//EN
METHOD:PUBLISH
X-PUBLISHED-TTL:P3D
REFRESH-INTERVAL:P3D
CALSCALE:GREGORIAN
BEGIN:VEVENT
DTSTART:20210705T233000Z
DTEND:20210706T003000Z
X-MICROSOFT-CDO-ALLDAYEVENT:FALSE
SUMMARY:Hickory Creek Regatta
DESCRIPTION:Cub Scouts Pack 34 invites all boys & girls\, ages 6 to 12 years\, to come join them at Morse Park for a boat race! Bring your own handmade boat (no glass boats)\, and plan on getting wet as you wade your boat to it's starting position. Then\, watch the line of boats take sail! Prizes will be awarded to: Most Creative\, Fastest\, Most Colorful\, Made with the Most Items\, Simple & Sleek\, and Built by a Future Engineer!
X-ALT-DESC;FMTTYPE=text/html:Cub Scouts Pack 34 invites all boys &amp\; girls\, ages 6 to 12 years\, to come join them at Morse Park for a boat race! Bring your own handmade boat (no glass boats)\, and plan on getting wet as you wade your boat to it&#39\;s starting position. Then\, watch the line of boats take sail! Prizes will be awarded to: Most Creative\, Fastest\, Most Colorful\, Made with the Most Items\, Simple &amp\; Sleek\, and Built by a Future Engineer!
LOCATION:What: Cub Scouts Pack 34 Hickory Creek Regatta Where: Neosho's Morse Park- Hickory Creek (by the bridge)
UID:e.2144.7651
SEQUENCE:3
DTSTAMP:20260423T161824Z
URL:https://neoshocc.com/events/details/hickory-creek-regatta-7651
END:VEVENT

END:VCALENDAR
