BEGIN:VCALENDAR
VERSION:2.0
PRODID:-//ChamberMaster//Event Calendar 2.0//EN
METHOD:PUBLISH
X-PUBLISHED-TTL:P3D
REFRESH-INTERVAL:P3D
CALSCALE:GREGORIAN
BEGIN:VEVENT
DTSTART:20260418T220000Z
DTEND:20260419T003000Z
X-MICROSOFT-CDO-ALLDAYEVENT:FALSE
SUMMARY:Help Hope Bloom
DESCRIPTION:We are pleased to announce our inaugural NewMac CASA fundraiser\, hosted by Falcon Lake Farm\, where we aim to Help Hope Bloom!\n\n\n\nYour support is crucial\, and we invite community leaders and businesses to join us as event sponsors. A table for six can be reserved for $350. We also welcome donations of silent auction items.\n\n\n\nPlease assist us in sharing information about this event\, and we hope you can join us for an evening of community engagement and learning more about NewMac CASA.
X-ALT-DESC;FMTTYPE=text/html:<span background-color:="" font-size:="" segoe="" ui="">We are pleased to announce our inaugural NewMac CASA fundraiser\, hosted by Falcon Lake Farm\, where we aim to Help Hope Bloom!</span><br background-color:="" class="html-br" font-size:="" segoe="" style="color: rgb(226\, 229\, 233)\; font-family: " ui="" />\n<br background-color:="" class="html-br" font-size:="" segoe="" style="color: rgb(226\, 229\, 233)\; font-family: " ui="" />\n<span background-color:="" font-size:="" segoe="" ui="">Your support is crucial\, and we invite community leaders and businesses to join us as event sponsors. A table for six can be reserved for $350. We also welcome donations of silent auction items.</span><br background-color:="" class="html-br" font-size:="" segoe="" style="color: rgb(226\, 229\, 233)\; font-family: " ui="" />\n<br background-color:="" class="html-br" font-size:="" segoe="" style="color: rgb(226\, 229\, 233)\; font-family: " ui="" />\n<span background-color:="" font-size:="" segoe="" ui="">Please assist us in sharing information about this event\, and we hope you can join us for an evening of community engagement and learning more about NewMac CASA.</span>
LOCATION:Falcon Lake Farms
UID:e.2144.19236
SEQUENCE:3
DTSTAMP:20260420T031153Z
URL:https://neoshocc.com/events/details/help-hope-bloom-19236
END:VEVENT

END:VCALENDAR
