BEGIN:VCALENDAR
VERSION:2.0
PRODID:-//ChamberMaster//Event Calendar 2.0//EN
METHOD:PUBLISH
X-PUBLISHED-TTL:P3D
REFRESH-INTERVAL:P3D
CALSCALE:GREGORIAN
BEGIN:VEVENT
DTSTART:20190601T140000Z
DTEND:20190601T210000Z
X-MICROSOFT-CDO-ALLDAYEVENT:FALSE
SUMMARY:Hello\, Sunshine Pop Up Market
DESCRIPTION:We are bringing an amazing group of hand-picked vendors together for a one-day kick-off to summer shopping event!  Food trucks will be outside with delicous food and 16 vendors catering to women and girls will be inside. Grab a friend and join us!
X-ALT-DESC;FMTTYPE=text/html:We are bringing an amazing group of hand-picked vendors together for a one-day kick-off to summer shopping event!&nbsp\; Food trucks will be outside with delicous food and 16 vendors catering to women and girls will be inside. Grab a friend and join us!&nbsp\;
LOCATION:The Weston Place 114 S. Wood St. (on the historic square) Neosho\, MO
UID:e.2144.2530
SEQUENCE:3
DTSTAMP:20260424T002219Z
URL:https://neoshocc.com/events/details/hello-sunshine-pop-up-market-2530
END:VEVENT

END:VCALENDAR
