BEGIN:VCALENDAR
VERSION:2.0
PRODID:-//ChamberMaster//Event Calendar 2.0//EN
METHOD:PUBLISH
X-PUBLISHED-TTL:P3D
REFRESH-INTERVAL:P3D
CALSCALE:GREGORIAN
BEGIN:VEVENT
DTSTART:20150922T140000Z
DTEND:20150922T200000Z
X-MICROSOFT-CDO-ALLDAYEVENT:FALSE
SUMMARY:Heartland Workforce Summit 2015
DESCRIPTION:Annual summit of the regions best in employment\, education\, workforce and economic development.
X-ALT-DESC;FMTTYPE=text/html:Annual summit of the regions best in employment\, education\, workforce and economic development.
LOCATION:Downstream Resort
UID:e.2144.1444
SEQUENCE:3
DTSTAMP:20260421T201643Z
URL:https://neoshocc.com/events/details/heartland-workforce-summit-2015-09-22-2015-1444
END:VEVENT

END:VCALENDAR
