BEGIN:VCALENDAR
VERSION:2.0
PRODID:-//ChamberMaster//Event Calendar 2.0//EN
METHOD:PUBLISH
X-PUBLISHED-TTL:P3D
REFRESH-INTERVAL:P3D
CALSCALE:GREGORIAN
BEGIN:VEVENT
DTSTART:20260421T223000Z
DTEND:20260421T233000Z
X-MICROSOFT-CDO-ALLDAYEVENT:FALSE
SUMMARY:Health Care in Retirement
DESCRIPTION:Health Care in Retirement\n\nPresented by:  Home Instead\, Services for the Aging Population\n\nOrganization:  Edward Jones with Home Instead\n\nHosted by:  Rachel Dobbs with Edward Jones\n\n\n\nWe hope you and a guest will join us.  Please RSVP by calling 417-455-9320 by 4/14/2026.  \n\n\n\nRefreshments will be served.
X-ALT-DESC;FMTTYPE=text/html:Health Care in Retirement<br />\nPresented by:&nbsp\; Home Instead\, Services for the Aging Population<br />\nOrganization:&nbsp\; Edward Jones with Home Instead<br />\nHosted by:&nbsp\; Rachel Dobbs with Edward Jones<br />\n<br />\nWe hope you and a guest will join us.&nbsp\; Please RSVP by calling 417-455-9320 by 4/14/2026.&nbsp\;&nbsp\;<br />\n<br />\nRefreshments will be served.
LOCATION:Neosho Newton County Library Community Room 201 W Spring St. Neosho\, MO 64850
UID:e.2144.19218
SEQUENCE:3
DTSTAMP:20260421T085148Z
URL:https://neoshocc.com/events/details/health-care-in-retirement-19218
END:VEVENT

END:VCALENDAR
